BEGIN:VCALENDAR
VERSION:2.0
PRODID:-//Beit Tikvah - ECPv6.15.3//NONSGML v1.0//EN
CALSCALE:GREGORIAN
METHOD:PUBLISH
X-WR-CALNAME:Beit Tikvah
X-ORIGINAL-URL:https://beittikvah.org
X-WR-CALDESC:Events for Beit Tikvah
REFRESH-INTERVAL;VALUE=DURATION:PT1H
X-Robots-Tag:noindex
X-PUBLISHED-TTL:PT1H
BEGIN:VTIMEZONE
TZID:America/New_York
BEGIN:DAYLIGHT
TZOFFSETFROM:-0500
TZOFFSETTO:-0400
TZNAME:EDT
DTSTART:20230312T070000
END:DAYLIGHT
BEGIN:STANDARD
TZOFFSETFROM:-0400
TZOFFSETTO:-0500
TZNAME:EST
DTSTART:20231105T060000
END:STANDARD
END:VTIMEZONE
BEGIN:VEVENT
DTSTART;TZID=America/New_York:20230929T190000
DTEND;TZID=America/New_York:20230929T210000
DTSTAMP:20260421T040813
CREATED:20230922T035531Z
LAST-MODIFIED:20230929T042351Z
UID:1320-1696014000-1696021200@beittikvah.org
SUMMARY:Sukkot Service & Potluck Dinner
DESCRIPTION:Sukkot Service & Potluck Dinner \nJoin us for a congregant-led short service in celebration of Sukkot\, the biblically mandated Harvest Festival. Our ancestors\, far more in tune with the seasons\, learned to leverage Nature’s gifts. Folksinger Norm Hogeland will lead us in song. \nPlease bring a dairy\, vegan or vegetarian dish to share for the Community Potluck Dinner. \nPlease RSVP to info@beittikvah.org.
URL:https://beittikvah.org/event/sukkot/
ATTACH;FMTTYPE=image/jpeg:https://beittikvah.org/wp-content/uploads/2023/09/sukkot2023.jpg
END:VEVENT
END:VCALENDAR