BEGIN:VCALENDAR
VERSION:2.0
PRODID:-//Beit Tikvah - ECPv6.15.3//NONSGML v1.0//EN
CALSCALE:GREGORIAN
METHOD:PUBLISH
X-WR-CALNAME:Beit Tikvah
X-ORIGINAL-URL:https://beittikvah.org
X-WR-CALDESC:Events for Beit Tikvah
REFRESH-INTERVAL;VALUE=DURATION:PT1H
X-Robots-Tag:noindex
X-PUBLISHED-TTL:PT1H
BEGIN:VTIMEZONE
TZID:America/New_York
BEGIN:DAYLIGHT
TZOFFSETFROM:-0500
TZOFFSETTO:-0400
TZNAME:EDT
DTSTART:20240310T070000
END:DAYLIGHT
BEGIN:STANDARD
TZOFFSETFROM:-0400
TZOFFSETTO:-0500
TZNAME:EST
DTSTART:20241103T060000
END:STANDARD
END:VTIMEZONE
BEGIN:VEVENT
DTSTART;TZID=America/New_York:20240126T183000
DTEND;TZID=America/New_York:20240126T210000
DTSTAMP:20260422T061409
CREATED:20231215T045423Z
LAST-MODIFIED:20240126T045646Z
UID:1346-1706293800-1706302800@beittikvah.org
SUMMARY:Potluck Dinner\, Tu B'Shvat Seder\, Remembrance for Ira P. May z"l
DESCRIPTION:Potluck Dinner\, Tu B’Shvat Seder\, and Remembrance for Ira P. May z”l \nJoin us on this special evening for: \n6:30 pm – Potluck Dinner \n7:15 pm – Tu B’Shvat Seder \n8:00 pm – Remembrance of the Life of Ira P. May z”l \nYou are welcome to attend any or all parts of the evening. \nWe begin with a Potluck Dinner at 6:30 pm. Please bring a dairy\, vegetarian\, or vegan dish to share. (We’d like to start the dinner right at 6:30 so we’ll be able to move on to the Seder at 7:15 pm.) \nThe participatory Tu B’Shvat Seder will celebrate the “New Year for the Trees” as this holiday has come to be known. Originally an ancient holiday to mark the beginning of a new growing year\, Tu B’Shvat has evolved to symbolize an appreciation for our planet and environmental awareness. During the Seder\, we’ll enjoy several different types of fruit as we reflect on the elemental forces of Earth\, Water\, Air\, and Fire. \nAfter the Seder\, we will have a Remembrance of the Life of Ira P. May z”l\, who passed away last week. Ira was a Beit Tikvah Board Member\, a Techie\, a Scientist\, a Family Man\, and an all-around “Mensch.” He will be missed by the many people whose lives he touched. \nRSVP to info@beittikvah.org.
URL:https://beittikvah.org/event/tu-bshvat-seder-and-remembrance-ira-may-01-26-24/
ATTACH;FMTTYPE=image/jpeg:https://beittikvah.org/wp-content/uploads/2024/01/Jewish-Life-Tu-Bishvat-scaled-3707742587.jpg
END:VEVENT
END:VCALENDAR