BEGIN:VCALENDAR
VERSION:2.0
PRODID:-//Beit Tikvah - ECPv6.15.3//NONSGML v1.0//EN
CALSCALE:GREGORIAN
METHOD:PUBLISH
X-WR-CALNAME:Beit Tikvah
X-ORIGINAL-URL:https://beittikvah.org
X-WR-CALDESC:Events for Beit Tikvah
REFRESH-INTERVAL;VALUE=DURATION:PT1H
X-Robots-Tag:noindex
X-PUBLISHED-TTL:PT1H
BEGIN:VTIMEZONE
TZID:America/New_York
BEGIN:DAYLIGHT
TZOFFSETFROM:-0500
TZOFFSETTO:-0400
TZNAME:EDT
DTSTART:20220313T070000
END:DAYLIGHT
BEGIN:STANDARD
TZOFFSETFROM:-0400
TZOFFSETTO:-0500
TZNAME:EST
DTSTART:20221106T060000
END:STANDARD
END:VTIMEZONE
BEGIN:VEVENT
DTSTART;TZID=America/New_York:20220611T093000
DTEND;TZID=America/New_York:20220611T123000
DTSTAMP:20260422T092417
CREATED:20220527T014026Z
LAST-MODIFIED:20220527T014446Z
UID:1097-1654939800-1654950600@beittikvah.org
SUMMARY:Rabbi-led Saturday Morning Service
DESCRIPTION:9:30 am  Rabbi-led Saturday Morning Service \n(Please note earlier start time this week.) \nRebellion in the Wilderness: Legitimate Protest or Mere Power Play?\nPlease join Rabbi Doug to study and discuss an ancient story of rebellion in this week’s Torah portion\, B’haalot’cha. Were the rebel leaders concerned for the people\, or just power hungry? How can you tell the difference? How does their story relate to ours today?\n \nWe welcome congregants to bring food (no meat) or beverages to share at the community Kiddush after the service. Kiddush will be followed by study and discussion of this week’s topic.\n \nPlease RSVP to info@beittikvah.org. \nClick to see our current COVID-19 Safety Procedures.
URL:https://beittikvah.org/event/rabbi-led-saturday-morning-service-06-11-22/
ATTACH;FMTTYPE=image/jpeg:https://beittikvah.org/wp-content/uploads/2022/05/Image-5-26-22-at-9.31-PM.jpg
END:VEVENT
END:VCALENDAR